BEGIN:VCALENDAR
VERSION:2.0
PRODID:-//Tukios.com/
BEGIN:VEVENT
UID:f98cb839-8acc-4812-a9df-8eb37032a72e@www.koprivataylor.com
DTSTAMP:20260422T195632Z
DTSTART:20260501T150000Z
DTEND:20260501T160000Z
SUMMARY:Mass
DESCRIPTION:
URL:https://www.koprivataylor.com/obituaries/sean-garvey
LOCATION: 47 Reynolds Street  Oakville ON L6J 3J9
GEO:43.4472037;-79.6634328
END:VEVENT
END:VCALENDAR