BEGIN:VCALENDAR
VERSION:2.0
PRODID:-//Tukios.com/
BEGIN:VEVENT
UID:05f89307-69a5-4001-83d9-cd9f0266383d@www.koprivataylor.com
DTSTAMP:20260422T200154Z
DTSTART:20260430T220000Z
DTEND:20260501T000000Z
SUMMARY:Visitation
DESCRIPTION:
URL:https://www.koprivataylor.com/obituaries/sean-garvey
LOCATION: 64 Lakeshore Road West  Oakville ON L6K 1E1
GEO:43.4402884;-79.6736752
END:VEVENT
END:VCALENDAR