BEGIN:VCALENDAR
VERSION:2.0
PRODID:-//Tukios.com/
BEGIN:VEVENT
UID:1001e4fb-18ed-478f-9d14-3cef631ae6d8@www.koprivataylor.com
DTSTAMP:20260422T195832Z
DTSTART:20260430T180000Z
DTEND:20260430T200000Z
SUMMARY:Visitation
DESCRIPTION:
URL:https://www.koprivataylor.com/obituaries/sean-garvey
LOCATION: 64 Lakeshore Road West  Oakville ON L6K 1E1
GEO:43.4402884;-79.6736752
END:VEVENT
END:VCALENDAR