BEGIN:VCALENDAR
VERSION:2.0
PRODID:-//Tukios.com/
BEGIN:VEVENT
UID:58589fd2-bce3-48af-a3e7-de404418e38b@www.koprivataylor.com
DTSTAMP:20260419T223522Z
DTSTART:20260425T150000Z
DTEND:20260425T160000Z
SUMMARY:Funeral Service
DESCRIPTION:
URL:https://www.koprivataylor.com/obituaries/jose-correia
LOCATION: 2451 Old Bronte Road  Oakville ON L6M 0S3
GEO:43.4341214;-79.7731096
END:VEVENT
END:VCALENDAR