BEGIN:VCALENDAR
VERSION:2.0
PRODID:-//Tukios.com/
BEGIN:VEVENT
UID:1700073c-54ea-41d7-a384-16b1c08c91e7@www.koprivataylor.com
DTSTAMP:20260419T223758Z
DTSTART:20260424T220000Z
DTEND:20260425T000000Z
SUMMARY:Visitation
DESCRIPTION:
URL:https://www.koprivataylor.com/obituaries/jose-correia
LOCATION:Kopriva Taylor Community Funeral Home 64 Lakeshore Road West  
	Oakville ON L6K 1E1
GEO:43.4402884;-79.6736752
END:VEVENT
END:VCALENDAR