BEGIN:VCALENDAR
VERSION:2.0
PRODID:-//Tukios.com/
BEGIN:VEVENT
UID:dc372ccd-f461-462f-8268-d2218c363688@www.koprivataylor.com
DTSTAMP:20260419T223412Z
DTSTART:20260424T180000Z
DTEND:20260424T200000Z
SUMMARY:Visitation
DESCRIPTION:
URL:https://www.koprivataylor.com/obituaries/jose-correia
LOCATION:Kopriva Taylor Community Funeral Home 64 Lakeshore Road West  
	Oakville ON L6K 1E1
GEO:43.4402884;-79.6736752
END:VEVENT
END:VCALENDAR