BEGIN:VCALENDAR
VERSION:2.0
PRODID:-//Tukios.com/
BEGIN:VEVENT
UID:671ed171-33f0-4cd2-ad9b-1a13340cee60@www.koprivataylor.com
DTSTAMP:20260419T223659Z
DTSTART:20260425T163000Z
DTEND:20260425T183000Z
SUMMARY:Reception
DESCRIPTION:
URL:https://www.koprivataylor.com/obituaries/jose-correia
LOCATION: 2454 Old Bronte Road  Oakville ON L6M 0S3
GEO:43.4339956;-79.7732267
END:VEVENT
END:VCALENDAR