BEGIN:VCALENDAR
VERSION:2.0
PRODID:-//Tukios.com/
BEGIN:VEVENT
UID:47d97347-0a7e-4994-a396-ed4a108e3041@www.koprivataylor.com
DTSTAMP:20260419T223541Z
DTSTART:20260425T161500Z
DTEND:20260425T164500Z
SUMMARY:Burial
DESCRIPTION:
URL:https://www.koprivataylor.com/obituaries/jose-correia
LOCATION: 3164 Ninth Line  Oakville ON L6H 7A8
GEO:43.512249;-79.7084355
END:VEVENT
END:VCALENDAR